{
 "currentVersion": 10.81,
 "cimVersion": "2.6.0",
 "serviceDescription": "",
 "mapName": "Contours_Published",
 "description": "",
 "copyrightText": "",
 "supportsDynamicLayers": true,
 "layers": [
  {
   "id": 0,
   "name": "Contours",
   "parentLayerId": -1,
   "defaultVisibility": true,
   "subLayerIds": null,
   "minScale": 63360,
   "maxScale": 0,
   "type": "Feature Layer",
   "geometryType": "esriGeometryPolyline",
   "supportsDynamicLegends": true
  }
 ],
 "tables": [],
 "spatialReference": {
  "wkid": 103508,
  "latestWkid": 103508,
  "xyTolerance": 0.003280833333333333,
  "zTolerance": 0.001,
  "mTolerance": 0.001,
  "falseX": -118963900,
  "falseY": -96373800,
  "xyUnits": 3048.0060960121928,
  "falseZ": -100000,
  "zUnits": 10000,
  "falseM": -100000,
  "mUnits": 10000
 },
 "singleFusedMapCache": true,
 "tileInfo": {
  "rows": 256,
  "cols": 256,
  "dpi": 96,
  "format": "MIXED",
  "compressionQuality": 75,
  "origin": {
   "x": -118963900,
   "y": 145491000
  },
  "spatialReference": {
   "wkid": 103508,
   "latestWkid": 103508,
   "xyTolerance": 0.003280833333333333,
   "zTolerance": 0.001,
   "mTolerance": 0.001,
   "falseX": -118963900,
   "falseY": -96373800,
   "xyUnits": 3.7240637144144125E7,
   "falseZ": -100000,
   "zUnits": 10000,
   "falseM": -100000,
   "mUnits": 10000
  },
  "lods": [
   {
    "level": 0,
    "resolution": 513591.6041666666,
    "scale": 591657528
   },
   {
    "level": 1,
    "resolution": 256795.8020833333,
    "scale": 295828764
   },
   {
    "level": 2,
    "resolution": 128397.90104166666,
    "scale": 147914382
   },
   {
    "level": 3,
    "resolution": 64198.95052083333,
    "scale": 73957191
   },
   {
    "level": 4,
    "resolution": 32099.474826388887,
    "scale": 36978595
   },
   {
    "level": 5,
    "resolution": 16049.73784722222,
    "scale": 18489298
   },
   {
    "level": 6,
    "resolution": 8024.86892361111,
    "scale": 9244649
   },
   {
    "level": 7,
    "resolution": 4012.4340277777774,
    "scale": 4622324
   },
   {
    "level": 8,
    "resolution": 2006.2170138888887,
    "scale": 2311162
   },
   {
    "level": 9,
    "resolution": 1003.1085069444443,
    "scale": 1155581
   },
   {
    "level": 10,
    "resolution": 501.5546875,
    "scale": 577791
   },
   {
    "level": 11,
    "resolution": 250.7769097222222,
    "scale": 288895
   },
   {
    "level": 12,
    "resolution": 125.38888888888889,
    "scale": 144448
   },
   {
    "level": 13,
    "resolution": 62.69444444444444,
    "scale": 72224
   },
   {
    "level": 14,
    "resolution": 31.34722222222222,
    "scale": 36112
   },
   {
    "level": 15,
    "resolution": 15.67361111111111,
    "scale": 18056
   },
   {
    "level": 16,
    "resolution": 7.836805555555555,
    "scale": 9028
   },
   {
    "level": 17,
    "resolution": 3.9184027777777777,
    "scale": 4514
   },
   {
    "level": 18,
    "resolution": 1.9592013888888888,
    "scale": 2257
   },
   {
    "level": 19,
    "resolution": 0.9791666666666666,
    "scale": 1128
   },
   {
    "level": 20,
    "resolution": 0.4895833333333333,
    "scale": 564
   },
   {
    "level": 21,
    "resolution": 0.24479166666666666,
    "scale": 282
   },
   {
    "level": 22,
    "resolution": 0.12244978038194444,
    "scale": 141.062147
   },
   {
    "level": 23,
    "resolution": 0.06122489019097222,
    "scale": 70.5310735
   }
  ]
 },
 "initialExtent": {
  "xmin": 1925962.7554190718,
  "ymin": 369458.8749351296,
  "xmax": 1998427.7928412892,
  "ymax": 431637.3671212402,
  "spatialReference": {
   "wkid": 103508,
   "latestWkid": 103508,
   "xyTolerance": 0.003280833333333333,
   "zTolerance": 0.001,
   "mTolerance": 0.001,
   "falseX": -118963900,
   "falseY": -96373800,
   "xyUnits": 3048.0060960121928,
   "falseZ": -100000,
   "zUnits": 10000,
   "falseM": -100000,
   "mUnits": 10000
  }
 },
 "fullExtent": {
  "xmin": 1943459.484666139,
  "ymin": 372207.9383713901,
  "xmax": 1980931.063594222,
  "ymax": 428888.3036849797,
  "spatialReference": {
   "wkid": 103508,
   "latestWkid": 103508,
   "xyTolerance": 0.003280833333333333,
   "zTolerance": 0.001,
   "mTolerance": 0.001,
   "falseX": -118963900,
   "falseY": -96373800,
   "xyUnits": 3048.0060960121928,
   "falseZ": -100000,
   "zUnits": 10000,
   "falseM": -100000,
   "mUnits": 10000
  }
 },
 "minScale": 591657528,
 "maxScale": 70.5310735,
 "minLOD": 0,
 "maxLOD": 23,
 "units": "esriFeet",
 "supportedImageFormatTypes": "PNG32,PNG24,PNG,JPG,DIB,TIFF,EMF,PS,PDF,GIF,SVG,SVGZ,BMP",
 "documentInfo": {
  "Title": "Contours_Published",
  "Author": "",
  "Comments": "",
  "Subject": "",
  "Category": "",
  "AntialiasingMode": "None",
  "TextAntialiasingMode": "Force",
  "Keywords": ""
 },
 "capabilities": "Map,Query,Data",
 "supportedQueryFormats": "JSON, geoJSON, PBF",
 "exportTilesAllowed": false,
 "referenceScale": 0.0,
 "datumTransformations": [
  {
   "geoTransforms": [
    {
     "wkid": 108148,
     "latestWkid": 108148,
     "transformForward": false,
     "name": "NAD_1983_CORS96_To_NAD_1983_HARN"
    }
   ]
  },
  {
   "geoTransforms": [
    {
     "wkid": 108148,
     "latestWkid": 108148,
     "transformForward": true,
     "name": "NAD_1983_CORS96_To_NAD_1983_HARN"
    }
   ]
  },
  {
   "geoTransforms": [
    {
     "wkid": 108151,
     "latestWkid": 108151,
     "transformForward": true,
     "name": "WGS_1984_(ITRF00)_To_NAD_1983_CORS96"
    }
   ]
  },
  {
   "geoTransforms": [
    {
     "wkid": 108151,
     "latestWkid": 108151,
     "transformForward": false,
     "name": "WGS_1984_(ITRF00)_To_NAD_1983_CORS96"
    }
   ]
  }
 ],
 "supportsDatumTransformation": true,
 "archivingInfo": {
  "supportsHistoricMoment": false
 },
 "supportsClipping": true,
 "supportsSpatialFilter": true,
 "supportsQueryDataElements": true,
 "maxRecordCount": 2000,
 "maxImageHeight": 4096,
 "maxImageWidth": 4096,
 "supportedExtensions": "",
 "resampling": false
}
