{
 "currentVersion": 10.81,
 "serviceDescription": "",
 "mapName": "Layers",
 "description": "",
 "copyrightText": "",
 "supportsDynamicLayers": true,
 "layers": [
  {
   "id": 0,
   "name": "2005_Orthos_Middle.sid",
   "parentLayerId": -1,
   "defaultVisibility": true,
   "subLayerIds": null,
   "minScale": 0,
   "maxScale": 0,
   "type": "Raster Layer"
  },
  {
   "id": 1,
   "name": "2005_Orthos_North.sid",
   "parentLayerId": -1,
   "defaultVisibility": true,
   "subLayerIds": null,
   "minScale": 0,
   "maxScale": 0,
   "type": "Raster Layer"
  },
  {
   "id": 2,
   "name": "2005_Orthos_South.sid",
   "parentLayerId": -1,
   "defaultVisibility": true,
   "subLayerIds": null,
   "minScale": 0,
   "maxScale": 0,
   "type": "Raster Layer"
  }
 ],
 "tables": [],
 "spatialReference": {
  "wkid": 103508,
  "latestWkid": 103508
 },
 "singleFusedMapCache": true,
 "tileInfo": {
  "rows": 256,
  "cols": 256,
  "dpi": 96,
  "format": "MIXED",
  "compressionQuality": 75,
  "origin": {
   "x": -118963900,
   "y": 145491000
  },
  "spatialReference": {
   "wkid": 103508,
   "latestWkid": 103508
  },
  "lods": [
   {
    "level": 0,
    "resolution": 513591.6041666666,
    "scale": 591657528
   },
   {
    "level": 1,
    "resolution": 256795.8020833333,
    "scale": 295828764
   },
   {
    "level": 2,
    "resolution": 128397.90104166666,
    "scale": 147914382
   },
   {
    "level": 3,
    "resolution": 64198.95052083333,
    "scale": 73957191
   },
   {
    "level": 4,
    "resolution": 32099.474826388887,
    "scale": 36978595
   },
   {
    "level": 5,
    "resolution": 16049.73784722222,
    "scale": 18489298
   },
   {
    "level": 6,
    "resolution": 8024.86892361111,
    "scale": 9244649
   },
   {
    "level": 7,
    "resolution": 4012.4340277777774,
    "scale": 4622324
   },
   {
    "level": 8,
    "resolution": 2006.2170138888887,
    "scale": 2311162
   },
   {
    "level": 9,
    "resolution": 1003.1085069444443,
    "scale": 1155581
   },
   {
    "level": 10,
    "resolution": 501.5546875,
    "scale": 577791
   },
   {
    "level": 11,
    "resolution": 250.7769097222222,
    "scale": 288895
   },
   {
    "level": 12,
    "resolution": 125.38888888888889,
    "scale": 144448
   },
   {
    "level": 13,
    "resolution": 62.69444444444444,
    "scale": 72224
   },
   {
    "level": 14,
    "resolution": 31.34722222222222,
    "scale": 36112
   },
   {
    "level": 15,
    "resolution": 15.67361111111111,
    "scale": 18056
   },
   {
    "level": 16,
    "resolution": 7.836805555555555,
    "scale": 9028
   },
   {
    "level": 17,
    "resolution": 3.9184027777777777,
    "scale": 4514
   },
   {
    "level": 18,
    "resolution": 1.9592013888888888,
    "scale": 2257
   },
   {
    "level": 19,
    "resolution": 0.9791666666666666,
    "scale": 1128
   },
   {
    "level": 20,
    "resolution": 0.4895833333333333,
    "scale": 564
   },
   {
    "level": 21,
    "resolution": 0.24479166666666666,
    "scale": 282
   },
   {
    "level": 22,
    "resolution": 0.12244978038194444,
    "scale": 141.062147
   },
   {
    "level": 23,
    "resolution": 0.06122489019097222,
    "scale": 70.5310735
   }
  ]
 },
 "initialExtent": {
  "xmin": 1963187.3832288245,
  "ymin": 417029.4953082489,
  "xmax": 1964557.8259371638,
  "ymax": 417498.245308254,
  "spatialReference": {
   "wkid": 103508,
   "latestWkid": 103508
  }
 },
 "fullExtent": {
  "xmin": 1905300,
  "ymin": 321500,
  "xmax": 2014100,
  "ymax": 485500,
  "spatialReference": {
   "wkid": 103508,
   "latestWkid": 103508
  }
 },
 "minScale": 591657528,
 "maxScale": 70.5310735,
 "units": "esriFeet",
 "supportedImageFormatTypes": "PNG32,PNG24,PNG,JPG,DIB,TIFF,EMF,PS,PDF,GIF,SVG,SVGZ,BMP",
 "documentInfo": {
  "Title": "",
  "Author": "",
  "Comments": "",
  "Subject": "",
  "Category": "",
  "AntialiasingMode": "None",
  "TextAntialiasingMode": "Force",
  "Keywords": ""
 },
 "capabilities": "Map,Query,Data",
 "supportedQueryFormats": "JSON, geoJSON",
 "exportTilesAllowed": false,
 "referenceScale": 0,
 "supportsDatumTransformation": true,
 "maxRecordCount": 1000,
 "maxImageHeight": 4096,
 "maxImageWidth": 4096,
 "supportedExtensions": "KmlServer",
 "resampling": false
}
